BEGIN:VCALENDAR
VERSION:2.0
PRODID:-// - ECPv6.2.8.1//NONSGML v1.0//EN
CALSCALE:GREGORIAN
METHOD:PUBLISH
X-ORIGINAL-URL:https://usc.com.au
X-WR-CALDESC:Events for 
REFRESH-INTERVAL;VALUE=DURATION:PT1H
X-Robots-Tag:noindex
X-PUBLISHED-TTL:PT1H
BEGIN:VTIMEZONE
TZID:Australia/Melbourne
BEGIN:STANDARD
TZOFFSETFROM:+1100
TZOFFSETTO:+1000
TZNAME:AEST
DTSTART:20260404T160000
END:STANDARD
BEGIN:DAYLIGHT
TZOFFSETFROM:+1000
TZOFFSETTO:+1100
TZNAME:AEDT
DTSTART:20261003T160000
END:DAYLIGHT
END:VTIMEZONE
BEGIN:VEVENT
DTSTART;TZID=Australia/Melbourne:20260731T180000
DTEND;TZID=Australia/Melbourne:20260802T180000
DTSTAMP:20260425T201852
CREATED:20231111T025218Z
LAST-MODIFIED:20260130T054557Z
UID:10000015-1785520800-1785693600@usc.com.au
SUMMARY:USC Race Weekend 2026
DESCRIPTION:Agenda to come:
URL:https://usc.com.au/event/usc-race-weekend-2/
LOCATION:Mt Buller\, 9 The Avenue\, Mt Buller\, VIC\, 3723\, Australia
CATEGORIES:Ski Racing
ORGANIZER;CN="University Ski Club":MAILTO:bookings@usc.com.au
END:VEVENT
END:VCALENDAR