BEGIN:VCALENDAR
VERSION:2.0
PRODID:-// - ECPv6.2.8.1//NONSGML v1.0//EN
CALSCALE:GREGORIAN
METHOD:PUBLISH
X-ORIGINAL-URL:https://usc.com.au
X-WR-CALDESC:Events for 
REFRESH-INTERVAL;VALUE=DURATION:PT1H
X-Robots-Tag:noindex
X-PUBLISHED-TTL:PT1H
BEGIN:VTIMEZONE
TZID:Australia/Melbourne
BEGIN:STANDARD
TZOFFSETFROM:+1100
TZOFFSETTO:+1000
TZNAME:AEST
DTSTART:20250405T160000
END:STANDARD
BEGIN:DAYLIGHT
TZOFFSETFROM:+1000
TZOFFSETTO:+1100
TZNAME:AEDT
DTSTART:20251004T160000
END:DAYLIGHT
BEGIN:STANDARD
TZOFFSETFROM:+1100
TZOFFSETTO:+1000
TZNAME:AEST
DTSTART:20260404T160000
END:STANDARD
BEGIN:DAYLIGHT
TZOFFSETFROM:+1000
TZOFFSETTO:+1100
TZNAME:AEDT
DTSTART:20261003T160000
END:DAYLIGHT
END:VTIMEZONE
BEGIN:VEVENT
DTSTART;TZID=Australia/Melbourne:20260418T090000
DTEND;TZID=Australia/Melbourne:20260419T153000
DTSTAMP:20260425T202016
CREATED:20240201T222443Z
LAST-MODIFIED:20260303T043153Z
UID:10000019-1776502800-1776612600@usc.com.au
SUMMARY:Mount Hotham Working Party - 1
DESCRIPTION:Please complete the working party application \nTasks to be completed are. \n\nLoading of firewood\nRemoving and washing of linen\nCleaning\nPainting\n\n 
URL:https://usc.com.au/event/mount-hotham-working-party-1/
LOCATION:Mt Hotham\, 69 Great Alpine Rd\, Mount Hotham\, Victoria\, 3741\, Australia
CATEGORIES:Work Party
ORGANIZER;CN="Bookings Officer":MAILTO:bookings@usc.com.au
END:VEVENT
BEGIN:VEVENT
DTSTART;TZID=Australia/Melbourne:20250512T090000
DTEND;TZID=Australia/Melbourne:20251012T170000
DTSTAMP:20260425T202016
CREATED:20231108T035530Z
LAST-MODIFIED:20250109T051100Z
UID:10000013-1747040400-1760288400@usc.com.au
SUMMARY:Bookings open for Provisional Members
DESCRIPTION:Priority Round Bookings are complete and bookings are open to provisional members for what is still available. Please review the Bookings Process for guidelines.
URL:https://usc.com.au/event/bookings-open-for-provisional-members/
LOCATION:Clubman
CATEGORIES:Bookings,Recreational Skiing
ORGANIZER;CN="Bookings Officer":MAILTO:bookings@usc.com.au
END:VEVENT
BEGIN:VEVENT
DTSTART;TZID=Australia/Melbourne:20250324T090000
DTEND;TZID=Australia/Melbourne:20250328T170000
DTSTAMP:20260425T202016
CREATED:20231108T032409Z
LAST-MODIFIED:20250313T171809Z
UID:10000008-1742806800-1743181200@usc.com.au
SUMMARY:Priority Round 2 Lodge Bookings
DESCRIPTION:Bookings are open for the week with the points system determining who is successful. You will know the success or failure of your booking request by the following Wednesday. \nIf your booking request has been successful you will be given 7 days to make payment or your booking will be cancelled. Sorry to be harsh\, but that is how it works! \nThe Booking Rules will provide the specific rules for this booking period.
URL:https://usc.com.au/event/priority-round-2-lodge-bookings/
LOCATION:Clubman
CATEGORIES:Bookings,Recreational Skiing
ORGANIZER;CN="Bookings Officer":MAILTO:bookings@usc.com.au
END:VEVENT
BEGIN:VEVENT
DTSTART;TZID=Australia/Melbourne:20250217T090000
DTEND;TZID=Australia/Melbourne:20250223T170000
DTSTAMP:20260425T202016
CREATED:20250109T044815Z
LAST-MODIFIED:20250109T045552Z
UID:10000030-1739782800-1740330000@usc.com.au
SUMMARY:Racing Round Priority Bookings
DESCRIPTION:Bookings are open for the week with the points system determining who is successful. You will know the success or failure of your booking request by the following Wednesday. \nIf your booking request has been successful you will be given 7 days to make payment or your booking will be cancelled. Sorry to be harsh\, but that is how it works! \nThe Booking Rules will provide the specific rules for this booking period.
URL:https://usc.com.au/event/racing-round-priority-bookings/
LOCATION:Clubman
CATEGORIES:Bookings,Recreational Skiing
ORGANIZER;CN="Bookings Officer":MAILTO:bookings@usc.com.au
END:VEVENT
END:VCALENDAR